BEGIN:VCALENDAR
VERSION:2.0
PRODID:-//Senderismo Burgos - ECPv5.14.0.4//NONSGML v1.0//EN
CALSCALE:GREGORIAN
METHOD:PUBLISH
X-WR-CALNAME:Senderismo Burgos
X-ORIGINAL-URL:https://senderismoburgos.es
X-WR-CALDESC:Eventos para Senderismo Burgos
BEGIN:VTIMEZONE
TZID:Europe/Madrid
BEGIN:DAYLIGHT
TZOFFSETFROM:+0100
TZOFFSETTO:+0200
TZNAME:CEST
DTSTART:20260329T010000
END:DAYLIGHT
BEGIN:STANDARD
TZOFFSETFROM:+0200
TZOFFSETTO:+0100
TZNAME:CET
DTSTART:20261025T010000
END:STANDARD
END:VTIMEZONE
BEGIN:VEVENT
DTSTART;VALUE=DATE:20260426
DTEND;VALUE=DATE:20260427
DTSTAMP:20260422T134225
CREATED:20260421T230845Z
LAST-MODIFIED:20260421T230845Z
UID:25534-1777161600-1777247999@senderismoburgos.es
SUMMARY:Ruta 26 de abril de 2026 San Felices - Valdelateja (Circular).
DESCRIPTION:Cascada Río Rudrón. \nAVISO IMPORTANTE: \nNO HAY QUE PAGAR LA RUTA HASTA QUE SE CONFIRME QUE PONEMOS AUTOBÚS. \nEn esta jornada haremos un recorrido por el cañón del río Rudrón. \nUn único recorrido nos llevará desde San Felices hasta Valdelateja en un bonito paseo junto al río\, para regresar por la parte alta\, a media ladera\, del desfiladero. \nDurante el recorrido tendremos la posibilidad de subir a la ermita de Santa Centola y Santa Elena. \nDatos de la ruta: \nDistancia:  11 Km. \nDesnivel positivo:   400 m. \nInscripciones \nLos requisitos para obtener plaza en esta actividad son: \n\nInscribirse en esta página web.\nHaber realizado el pago de la actividad.\n\nLa inscripción a esta ruta estará disponible el miércoles a partir de las 20:00 h para los socios y a partir de las 23:00 se abrirá a todos los usuarios. \nLas formas de pago serán las habituales. Por transferencia a la cuenta del Club en la Caja Rural o directamente en El Cafetal. \nEl jueves a las 20.00 h acaba el plazo de pago en El Cafetal. \nLas inscripciones sin pago documentado serán anuladas. \nGestión reservas: reservas@senderismoburgos.es \n\n\n\nEquipo imprescindible:  \nAdemás de lo que cada uno considere conveniente\, hay una serie de elementos que no deben faltar en nuestro equipamiento: \nBotas de montaña (Imprescindible). Calzado cómodo y apto para movernos por el monte con seguridad. \nAgua. Cada cual debe llevar el agua que pueda necesitar. Mínimo 1 litro. \nChubasquero o impermeable. Siempre debemos llevar una prenda para protegernos de la lluvia o/y paraguas. La lluvia puede sorprendernos en cualquier momento. \nRopa de abrigo. Prendas técnicas\, por capas\, siendo la última capa apta para aguantar el frío y cortar el viento. \nPara el sol: Gafas de sol y protector solar.\n\n\n\nSalida \nSi disponemos de autobús: \nA las 09:00 h sale el autobús de El Cafetal\, de la parada de autobús situada en la calle Santiago a la altura del Parque Félix. \nMinutos más tarde se recogerá a los que esperan en la Avenida de la Paz\, en la parada situada entre los números 39 y 41. \nSi no disponemos de autobús: \nA las 08:45 h nos vemos en El Cafetal para organizarnos y salir hacia Carazo a las 09:00 h. \nLa marcha \nSalimos desde el aparcamiento de San Felices\, situado a pie de carretera. \nCruzaremos el puente para coger el camino que discurre junto al río Rudrón. \nEn este camino disfrutaremos de la vegetación de ribera\, pasaremos junto a un refugio de pescadores y veremos en la orilla opuesta\, el balneario. \nNos encontraremos con una bonita cascada poco antes de llegar a Valdelateja. \nAquí tendremos tiempo de recorrer este bonito pueblo y probablemente\, tomar una caña. \nComenzamos el regreso ascendiendo de forma tendida\, hasta el cruce de la ermita de Santa Centola y Santa Elena\, a la que podremos acercarnos en lo que supone un desvío de un kilómetro y 80 m de diferencia de nivel. \nAfrontamos ahora una ascensión más pendiente\, en la que salvaremos unos 120 m de diferencia de nivel. \nUn camino a media ladera del desfiladero\, nos permitirá un recorrido disfrutando de espléndidas vistas. \nSolo nos resta descender hasta el nivel del Rudrón y volver a cruzarlo para regresar a San Felices. \n \nCañón del Rudrón. \nHorario:  \nTenemos previsto iniciar el regreso desde San Felices del Rudrón a las 16:00 h\, para llegar a Burgos sobre las 17:00 h. \nDatos de la Ruta: \n\n		\n			\n				\n				 © OpenStreetMap contributors\n			\n			\n			\n			\n		\n		\n		Distancia total: 10998 mElevación máxima: 903 mElevación mínima: 657 mAscenso total: 375 mDescenso total: -375 mDownload file: san-felices-valdelateja-circular.gpx
URL:https://senderismoburgos.es/ruta/ruta-26-de-abril-de-2026-san-felices-valdelateja-circular/
ATTACH;FMTTYPE=image/jpeg:https://senderismoburgos.es/wp-content/uploads/2026/04/CASCADA-RUDRON-02.jpg
END:VEVENT
END:VCALENDAR